BEGIN:VCALENDAR
VERSION:2.0
PRODID:-//Planète Sciences - ECPv6.15.20//NONSGML v1.0//EN
CALSCALE:GREGORIAN
METHOD:PUBLISH
X-WR-CALNAME:Planète Sciences
X-ORIGINAL-URL:https://www.planete-sciences.org/national
X-WR-CALDESC:Évènements pour Planète Sciences
REFRESH-INTERVAL;VALUE=DURATION:PT1H
X-Robots-Tag:noindex
X-PUBLISHED-TTL:PT1H
BEGIN:VTIMEZONE
TZID:Europe/Paris
BEGIN:DAYLIGHT
TZOFFSETFROM:+0100
TZOFFSETTO:+0200
TZNAME:CEST
DTSTART:20250330T010000
END:DAYLIGHT
BEGIN:STANDARD
TZOFFSETFROM:+0200
TZOFFSETTO:+0100
TZNAME:CET
DTSTART:20251026T010000
END:STANDARD
BEGIN:DAYLIGHT
TZOFFSETFROM:+0100
TZOFFSETTO:+0200
TZNAME:CEST
DTSTART:20260329T010000
END:DAYLIGHT
BEGIN:STANDARD
TZOFFSETFROM:+0200
TZOFFSETTO:+0100
TZNAME:CET
DTSTART:20261025T010000
END:STANDARD
BEGIN:DAYLIGHT
TZOFFSETFROM:+0100
TZOFFSETTO:+0200
TZNAME:CEST
DTSTART:20270328T010000
END:DAYLIGHT
BEGIN:STANDARD
TZOFFSETFROM:+0200
TZOFFSETTO:+0100
TZNAME:CET
DTSTART:20271031T010000
END:STANDARD
END:VTIMEZONE
BEGIN:VEVENT
DTSTART;TZID=Europe/Paris:20260420T080000
DTEND;TZID=Europe/Paris:20260619T170000
DTSTAMP:20260423T112335
CREATED:20260306T151513Z
LAST-MODIFIED:20260309T103054Z
UID:7128-1776672000-1781888400@www.planete-sciences.org
SUMMARY:Découvrez la programmation des stages de printemps !
DESCRIPTION:L’Espace des Sciences et de Découverte organise\, pendant les vacances de printemps de la Zone C\, plusieurs stages dédiés à l’espace\, à l’astronomie\, aux énergies et à l’environnement. Plonge dans l’entraînement d’un·e astronaute\, découvre la beauté d’un ciel étoilé\, pars en mission avec Julien le satellite… ou garde les pieds sur terre pour jardiner et mieux comprendre Mme Gazon. À toi de choisir ton univers ! 🚀✨🌱 \n\nStages payants et sur inscription.\n\n\nInscriptions ici !\n\n \n\n Espace des Sciences et de Découverte \n10 rue du Marquis de Raies\,\n91080 Evry-Courcouronnes
URL:https://www.planete-sciences.org/national/evenements/les-stages-de-printemps-sont-arrives/
ATTACH;FMTTYPE=image/png:https://www.planete-sciences.org/national/wp-content/uploads/2026/03/Stages-ESD-printemps-1.png
END:VEVENT
END:VCALENDAR